BEGIN:VCALENDAR
VERSION:2.0
PRODID:DPCALENDAR
CALSCALE:GREGORIAN
BEGIN:VTIMEZONE
TZID:Europe/Dublin
BEGIN:STANDARD
DTSTART:20251026T010000
TZOFFSETFROM:+0100
TZOFFSETTO:+0000
TZNAME:GMT
END:STANDARD
BEGIN:DAYLIGHT
DTSTART:20260329T010000
TZOFFSETFROM:+0000
TZOFFSETTO:+0100
TZNAME:IST
END:DAYLIGHT
BEGIN:STANDARD
DTSTART:20261025T010000
TZOFFSETFROM:+0100
TZOFFSETTO:+0000
TZNAME:GMT
END:STANDARD
END:VTIMEZONE
X-WR-TIMEZONE:Europe/Dublin
BEGIN:VEVENT
DTSTART;TZID=Europe/Dublin:20160428T130000
DTEND;TZID=Europe/Dublin:20160429T140000
UID:8377A734-B2F6-463F-913F-3061A9D062EF
SUMMARY:Health Week 2016
DTSTAMP:20160428T121101Z
DESCRIPTION:
X-ALT-DESC;FMTTYPE=text/html:
X-ACCESS:1
X-HITS:0
X-URL:
X-COLOR:3366CC
END:VEVENT
END:VCALENDAR